BEGIN:VCALENDAR
VERSION:2.0
PRODID:-//Carpetania Madrid - ECPv5.12.3//NONSGML v1.0//EN
CALSCALE:GREGORIAN
METHOD:PUBLISH
X-WR-CALNAME:Carpetania Madrid
X-ORIGINAL-URL:https://www.carpetaniamadrid.com
X-WR-CALDESC:Events for Carpetania Madrid
REFRESH-INTERVAL;VALUE=DURATION:PT1H
X-Robots-Tag:noindex
X-PUBLISHED-TTL:PT1H
BEGIN:VTIMEZONE
TZID:Europe/Madrid
BEGIN:DAYLIGHT
TZOFFSETFROM:+0100
TZOFFSETTO:+0200
TZNAME:CEST
DTSTART:20250330T010000
END:DAYLIGHT
BEGIN:STANDARD
TZOFFSETFROM:+0200
TZOFFSETTO:+0100
TZNAME:CET
DTSTART:20251026T010000
END:STANDARD
END:VTIMEZONE
BEGIN:VEVENT
DTSTART;TZID=Europe/Madrid:20251228T111500
DTEND;TZID=Europe/Madrid:20251228T131500
DTSTAMP:20260424T173304
CREATED:20220302T183032Z
LAST-MODIFIED:20251202T184837Z
UID:642-1766920500-1766927700@www.carpetaniamadrid.com
SUMMARY:Madrid Oculto
DESCRIPTION:[vc_row padding_top_multiplier=»» padding_bottom_multiplier=»4x» mobile_columns_vertical_gap=»none»][vc_column content_width=»custom» horizontal_content_position=»center» custom_content_width=»770″][vc_row_inner mobile_columns_vertical_gap=»15″][vc_column_inner width=»1/4″][/vc_column_inner][vc_column_inner width=»3/4″]Paseo familiar para niños\, niñas y mayores sobre leyendas e historias ocultas de Madrid.[vc_column_text]Un paseo por los barrios de Palacio y Santiago y algunos de sus enigmas y curiosidades: ¿Por qué nos llaman gatos y gatas? la Cripta de la Almudena\, las estatuas de la plaza de Oriente\, el burro Perico\, los restos de Velázquez\, el estrafalario Don Jorgito y su Biblia en caló\, un Ovni en pleno centro de Madrid\, el chocolate de Paul\, la leyenda de la calle del Bonetillo… y otras historias ocultas de Madrid. \nUna ruta interactiva diseñada para que la actividad se disfrute en familia\, basada en el libro Madrid oculto para niños de Marco Blesas. \nDestinatarios: de 6 años a 90 años.\nRequisitos: movilidad para pasear.[/vc_column_text][/vc_column_inner][/vc_row_inner][vc_row_inner mobile_columns_vertical_gap=»15″][vc_column_inner width=»1/4″]Qué incluye[/vc_column_inner][vc_column_inner width=»3/4″]Tour guiado con guía profesionalDocumentaciónSeguro de responsabilidad civil[/vc_column_inner][/vc_row_inner][vc_row_inner mobile_columns_vertical_gap=»15″][vc_column_inner width=»1/4″]Recorrido[/vc_column_inner][vc_column_inner width=»3/4″][vc_column_text] \n\n\n\nCripta de la Almudena\nPlaza de Oriente\nPlaza de Ramales\nPlaza de Santiago\nCalle de los Milaneses\nCalle del Bonetillo.\n\n\n\n[/vc_column_text][/vc_column_inner][/vc_row_inner][/vc_column][/vc_row][vc_row section_type=»fullwidth» padding_top_multiplier=»4x» padding_bottom_multiplier=»4x» rc_bg_type=»color» columns_gap=»15″ rc_bg_color=»#fff3e0″ section_id=»galeria»][vc_column width=»1/6″][/vc_column][vc_column width=»5/6″ grve_css=»{«desktop«:{«padding-bottom«:«8%«\,«class«:«grve-wpb-1641920772377«}}»]Descubre la ruta en imágenes:[vc_row_inner][vc_column_inner width=»1/2″ tablet_sm_width=»2-3″][/vc_column_inner][vc_column_inner width=»1/2″ tablet_sm_width=»1-3″][/vc_column_inner][/vc_row_inner][/vc_column][/vc_row][vc_row padding_top_multiplier=»» padding_bottom_multiplier=»»][vc_column grve_css=»{«desktop«:{«margin-top«:«-14%«\,«class«:«grve-wpb-1599199444770«}}»]\n	\n			\n		\n							\n					\n				\n			\n							\n					\n				\n			\n		\n	\n		\n\n			\n				\n					\n	\n				\n								\n			\n	\n				\n			\n\n			\n				\n					\n	\n				\n								\n			\n	\n				\n			\n\n			\n				\n					\n	\n				\n								\n			\n	\n				\n			\n\n			\n				\n					\n	\n				\n								\n			\n	\n				\n			\n\n			\n				\n					\n	\n				\n								\n			\n	\n				\n			\n\n			\n				\n					\n	\n				\n								\n			\n	\n				\n			\n\n			\n				\n					\n	\n				\n								\n			\n	\n				\n			\n\n			\n				\n					\n	\n				\n								\n			\n	\n				\n			\n\n			\n				\n					\n	\n				\n								\n			\n	\n				\n			\n\n			\n				\n					\n	\n				\n								\n			\n	\n				\n			\n\n			\n				\n					\n	\n				\n								\n			\n	\n				\n			\n\n			\n				\n					\n	\n				\n								\n			\n	\n				\n			\n\n			\n				\n					\n	\n				\n								\n			\n	\n				\n			\n\n			\n				\n					\n	\n				\n								\n			\n	\n				\n			\n\n			\n				\n					\n	\n				\n								\n			\n	\n				\n			\n\n			\n				\n					\n	\n				\n								\n			\n	\n				\n			\n\n			\n				\n					\n	\n				\n								\n			\n	\n				\n			\n\n			\n				\n					\n	\n				\n								\n			\n	\n				\n			\n		\n	\n\n[/vc_column][/vc_row]
URL:https://www.carpetaniamadrid.com/ruta/madrid-oculto/
LOCATION:En la acera de enfrente de la entrada a la Cripta de la Catedral de la Almudena (cruzar por paso de cebra de arriba en la esquina)\, C. Mayor\, 90\, Madrid\, 28013
CATEGORIES:Disponible para grupos,Diurnas,Familiares,Temáticas
ATTACH;FMTTYPE=image/jpeg:https://www.carpetaniamadrid.com/wp-content/uploads/2022/03/Cartel-Madrid-Oculto-generico-peq.jpg
ORGANIZER;CN="Miriam%20Cano":MAILTO:miriam@carpetaniamadrid.com
END:VEVENT
END:VCALENDAR