BEGIN:VCALENDAR
VERSION:2.0
PRODID:-//Carpetania Madrid - ECPv5.12.3//NONSGML v1.0//EN
CALSCALE:GREGORIAN
METHOD:PUBLISH
X-WR-CALNAME:Carpetania Madrid
X-ORIGINAL-URL:https://www.carpetaniamadrid.com
X-WR-CALDESC:Events for Carpetania Madrid
REFRESH-INTERVAL;VALUE=DURATION:PT1H
X-Robots-Tag:noindex
X-PUBLISHED-TTL:PT1H
BEGIN:VTIMEZONE
TZID:Europe/Madrid
BEGIN:DAYLIGHT
TZOFFSETFROM:+0100
TZOFFSETTO:+0200
TZNAME:CEST
DTSTART:20260329T010000
END:DAYLIGHT
BEGIN:STANDARD
TZOFFSETFROM:+0200
TZOFFSETTO:+0100
TZNAME:CET
DTSTART:20261025T010000
END:STANDARD
END:VTIMEZONE
BEGIN:VEVENT
DTSTART;TZID=Europe/Madrid:20260411T110000
DTEND;TZID=Europe/Madrid:20260411T131500
DTSTAMP:20260424T164752
CREATED:20240102T103708Z
LAST-MODIFIED:20260330T172121Z
UID:5535-1775905200-1775913300@www.carpetaniamadrid.com
SUMMARY:Galdós - Del barrio de los Miau a Pez
DESCRIPTION:[vc_row padding_top_multiplier=»» padding_bottom_multiplier=»4x» mobile_columns_vertical_gap=»none»][vc_column content_width=»custom» horizontal_content_position=»center» custom_content_width=»770″][vc_row_inner mobile_columns_vertical_gap=»15″][vc_column_inner width=»1/4″][/vc_column_inner][vc_column_inner width=»3/4″]Paseo galdosiano\, realizado por Carpetania Madrid\, con la colaboración de Historia Urbana de Madrid.[vc_column_text]Paseo representado por lugares y rincones relacionados con la vida\, las obras (Miau\, Episodios Nacionales\, El amigo Manso…) y los personajes galdosianos vinculados al barrio de Conde Duque y de Maravillas/Malasaña.[/vc_column_text][/vc_column_inner][/vc_row_inner][vc_row_inner mobile_columns_vertical_gap=»15″][vc_column_inner width=»1/4″]Qué incluye[/vc_column_inner][vc_column_inner width=»3/4″]Paseo con guía profesionalDocumentaciónSeguro de responsabilidad civil[/vc_column_inner][/vc_row_inner][vc_row_inner mobile_columns_vertical_gap=»15″][vc_column_inner width=»1/4″]Recorrido[/vc_column_inner][vc_column_inner width=»3/4″][vc_column_text] \n\n\n\nPlaza de los Guardias de Corps\nPlaza de las Comendadoras\nCalle Quiñones\nIglesia de Montserrat\nPlaza Dos de Mayo\nCalle de la Palma\nCalle Santa Lucía\nCalle Pozas\nCalle del Pez\n\n\n\n[/vc_column_text][/vc_column_inner][/vc_row_inner][/vc_column][/vc_row][vc_row section_type=»fullwidth» padding_top_multiplier=»4x» padding_bottom_multiplier=»4x» rc_bg_type=»color» columns_gap=»15″ rc_bg_color=»#fff3e0″ section_id=»galeria»][vc_column width=»1/6″][/vc_column][vc_column width=»5/6″ grve_css=»{«desktop«:{«padding-bottom«:«8%«\,«class«:«grve-wpb-1641920772377«}}»]Descubre la ruta en imágenes:[vc_row_inner][vc_column_inner width=»1/2″ tablet_sm_width=»2-3″][/vc_column_inner][vc_column_inner width=»1/2″ tablet_sm_width=»1-3″][/vc_column_inner][/vc_row_inner][/vc_column][/vc_row][vc_row padding_top_multiplier=»» padding_bottom_multiplier=»»][vc_column grve_css=»{«desktop«:{«margin-top«:«-14%«\,«class«:«grve-wpb-1599199444770«}}»]\n	\n			\n		\n							\n					\n				\n			\n							\n					\n				\n			\n		\n	\n		\n\n			\n				\n					\n	\n				\n								\n				\n			\n											\n		\n	\n\n				\n			\n\n			\n				\n					\n	\n				\n								\n				\n			\n											\n		\n	\n\n				\n			\n\n			\n				\n					\n	\n				\n								\n				\n			\n											\n		\n	\n\n				\n			\n\n			\n				\n					\n	\n				\n								\n				\n			\n											\n		\n	\n\n				\n			\n\n			\n				\n					\n	\n				\n								\n				\n			\n											\n		\n	\n\n				\n			\n\n			\n				\n					\n	\n				\n								\n				\n			\n											\n		\n	\n\n				\n			\n\n			\n				\n					\n	\n				\n								\n				\n			\n											\n		\n	\n\n				\n			\n		\n	\n\n[/vc_column][/vc_row]
URL:https://www.carpetaniamadrid.com/ruta/galdos-del-barrio-de-los-miau-a-pez/
LOCATION:Plaza de los Guardias de Corps (Junto al Centro Cultural Conde Duque)\, Plaza de los Guardias de Corps\, Madrid\, 28015
CATEGORIES:Disponible para grupos,Diurnas,Recorridos literarios,Representadas
ATTACH;FMTTYPE=image/jpeg:https://www.carpetaniamadrid.com/wp-content/uploads/2024/01/Placa-GaldosIMG_5834-scaled.jpg
ORGANIZER;CN="Juan%20Carlos%20Gonz%C3%A1lez":MAILTO:jzalez@carpetaniamadrid.com
END:VEVENT
BEGIN:VEVENT
DTSTART;TZID=Europe/Madrid:20260411T200000
DTEND;TZID=Europe/Madrid:20260411T220000
DTSTAMP:20260424T164752
CREATED:20220221T110413Z
LAST-MODIFIED:20260401T084220Z
UID:472-1775937600-1775944800@www.carpetaniamadrid.com
SUMMARY:Madrid Bohemio - 90 aniversario de la muerte de Valle-Inclán (1936-2026)
DESCRIPTION:[vc_row padding_top_multiplier=»» padding_bottom_multiplier=»4x» mobile_columns_vertical_gap=»none»][vc_column content_width=»custom» horizontal_content_position=»center» custom_content_width=»770″][vc_row_inner mobile_columns_vertical_gap=»15″][vc_column_inner width=»1/4″][/vc_column_inner][vc_column_inner width=»3/4″]90 aniversario de la muerte de Valle-Inclán (1936-2026)\n[vc_column_text]Un recorrido HISTÓRICO-LITERARIO por el Madrid de los escritores modernistas\, las librerías de viejo\, las tabernas\, las buñolerías\, los cafés\, las tertulias y los centros de sociabilidad de los primeros años del siglo XX. \nLas «Luces de Bohemia» de Ramón del Valle-Inclán: la ruta de Max Estrella y Don Latino de Hispalis. \n«Éste que veis aquí de rostro español y quevedesco\, de negra guedeja y\nluenga barba\, soy yo: D. Ramón María del Valle-Inclán» (R. Valle-Inclán) \n¡Felicitamos a Valle Inclán! cráneo privilegiado 😉 \nCon motivo del nacimiento de Don Ramón María del Valle Inclán\, el 28 de octubre de 1866\, a sugerencia de Carpetania Madrid\, el cineasta José\nLuis García Sánchez ha escrito un breve texto\, que lee Luis Pérezagua. \n \nMás información: Madrid bohemio / golfemio (Onda cero) \nDesmontando Madrid: El Madrid de los escritores -Telemadrid Tertulias\, debates y peleas en el Café de la Montaña[/vc_column_text][/vc_column_inner][/vc_row_inner][vc_row_inner mobile_columns_vertical_gap=»15″][vc_column_inner width=»1/4″]Qué incluye[/vc_column_inner][vc_column_inner width=»3/4″]Paseo bohemio con historiadorDocumentaciónSeguro de responsabilidad civil[/vc_column_inner][/vc_row_inner][vc_row_inner mobile_columns_vertical_gap=»15″][vc_column_inner width=»1/4″]Recorrido[/vc_column_inner][vc_column_inner width=»3/4″][vc_column_text] \n\n\n\nPretil de los Consejos\nCalle Mayor\nCalle Juan Herrera\nPlaza del Biombo\nPlaza de Santiago\nCalle de Santa Clara\nCalle de la Amnistía\nCalle del Espejo\nChocolatería de San Ginés\nPuerta del Sol\nCallejón del Gato\nPlaza de Santa Ana\n\n\n\n[/vc_column_text][/vc_column_inner][/vc_row_inner][/vc_column][/vc_row][vc_row section_type=»fullwidth» padding_top_multiplier=»4x» padding_bottom_multiplier=»4x» rc_bg_type=»color» columns_gap=»15″ rc_bg_color=»#fff3e0″][vc_column width=»1/6″][/vc_column][vc_column width=»5/6″ grve_css=»{«desktop«:{«padding-bottom«:«8%«\,«class«:«grve-wpb-1641920772377«}}»]Descubre la ruta\nen imágenes.[vc_row_inner][vc_column_inner width=»1/2″ tablet_sm_width=»2-3″][vc_column_text animation_delay=»300″][/vc_column_text][/vc_column_inner][vc_column_inner width=»1/2″ tablet_sm_width=»1-3″][/vc_column_inner][/vc_row_inner][/vc_column][/vc_row][vc_row padding_top_multiplier=»» padding_bottom_multiplier=»»][vc_column grve_css=»{«desktop«:{«margin-top«:«-14%«\,«class«:«grve-wpb-1599199444770«}}»]\n	\n			\n		\n							\n					\n				\n			\n							\n					\n				\n			\n		\n	\n		\n\n			\n				\n					\n	\n				\n								\n			\n	\n				\n			\n\n			\n				\n					\n	\n				\n								\n			\n	\n				\n			\n\n			\n				\n					\n	\n				\n								\n			\n	\n				\n			\n\n			\n				\n					\n	\n				\n								\n			\n	\n				\n			\n\n			\n				\n					\n	\n				\n								\n			\n	\n				\n			\n\n			\n				\n					\n	\n				\n								\n			\n	\n				\n			\n\n			\n				\n					\n	\n				\n								\n			\n	\n				\n			\n		\n	\n\n[/vc_column][/vc_row]
URL:https://www.carpetaniamadrid.com/ruta/madrid-bohemio/
LOCATION:Puerta del Istituto Italiano di Cultura (C/ Mayor 86)\, C/ Mayor 86\, Madrid\, Madrid\, España
CATEGORIES:Disponible para grupos,Nocturnas,Recorridos literarios
ATTACH;FMTTYPE=image/jpeg:https://www.carpetaniamadrid.com/wp-content/uploads/2022/02/Bohemio_valle.jpg
ORGANIZER;CN="Juan%20Carlos%20Gonz%C3%A1lez":MAILTO:jzalez@carpetaniamadrid.com
END:VEVENT
END:VCALENDAR