BEGIN:VCALENDAR
VERSION:2.0
PRODID:-//Carpetania Madrid - ECPv5.12.3//NONSGML v1.0//EN
CALSCALE:GREGORIAN
METHOD:PUBLISH
X-WR-CALNAME:Carpetania Madrid
X-ORIGINAL-URL:https://www.carpetaniamadrid.com
X-WR-CALDESC:Events for Carpetania Madrid
REFRESH-INTERVAL;VALUE=DURATION:PT1H
X-Robots-Tag:noindex
X-PUBLISHED-TTL:PT1H
BEGIN:VTIMEZONE
TZID:Europe/Madrid
BEGIN:DAYLIGHT
TZOFFSETFROM:+0100
TZOFFSETTO:+0200
TZNAME:CEST
DTSTART:20260329T010000
END:DAYLIGHT
BEGIN:STANDARD
TZOFFSETFROM:+0200
TZOFFSETTO:+0100
TZNAME:CET
DTSTART:20261025T010000
END:STANDARD
END:VTIMEZONE
BEGIN:VEVENT
DTSTART;TZID=Europe/Madrid:20260510T110000
DTEND;TZID=Europe/Madrid:20260510T131500
DTSTAMP:20260424T180244
CREATED:20250901T075132Z
LAST-MODIFIED:20260418T082552Z
UID:10330-1778410800-1778418900@www.carpetaniamadrid.com
SUMMARY:Años 70\, crónicas de Madrid
DESCRIPTION:[vc_row padding_top_multiplier=»» padding_bottom_multiplier=»4x» mobile_columns_vertical_gap=»none»][vc_column content_width=»custom» horizontal_content_position=»center» custom_content_width=»770″][vc_row_inner mobile_columns_vertical_gap=»15″][vc_column_inner width=»1/4″][/vc_column_inner][vc_column_inner width=»3/4″]Un recorrido histórico y emocional por la memoria de una década de cambios hacía nuevos tiempos.[vc_column_text]El atentado de Carrero Blanco\, la muerte de Franco\, la llegada de la transición y la restauración de la democracia\, el aperturismo\, la desaparición de la censura\, el nuevo cine español\, el destape\, el teatro de los 70\, los movimientos sociales\, «los grises»\, los cantautores\, el rock urbano\, el pop\, el sonido Caño Roto\, los cafés de poetas e intelectuales… \n«Presiento que tras la noche\nvendrá la noche más larga\nquiero que no me abandones\namor mío\, al alba» (Luis Eduardo Aute) \nhttps://www.carpetaniamadrid.com/wp-content/uploads/2025/09/59a22b92-3be6-454f-b48e-28ebc20eaa39-1.mp4\nhttps://www.carpetaniamadrid.com/wp-content/uploads/2025/09/425f9113-aaee-46ab-b9b5-ee450e3dfc89.mp4\n[/vc_column_text][/vc_column_inner][/vc_row_inner][vc_row_inner mobile_columns_vertical_gap=»15″][vc_column_inner width=»1/4″]Qué incluye[/vc_column_inner][vc_column_inner width=»3/4″]Paseo a pie con guía profesionalDocumentaciónSeguro de responsabilidad civilSorpresas musicales[/vc_column_inner][/vc_row_inner][vc_row_inner mobile_columns_vertical_gap=»15″][vc_column_inner width=»1/4″]Recorrido[/vc_column_inner][vc_column_inner width=»3/4″][vc_column_text] \n\n\n\nPlaza de los Chisperos de Chamberí\nCalle Luchana\nGlorieta de Bilbao\nCalle Manuela Malasaña\nCalle Ruiz\nPlaza Dos de Mayo\nCalle san Andrés\nCalle san Vicente Ferrer\nPlaza del Rastrillo\n\n\n\n[/vc_column_text][/vc_column_inner][/vc_row_inner][/vc_column][/vc_row][vc_row section_type=»fullwidth» padding_top_multiplier=»4x» padding_bottom_multiplier=»4x» rc_bg_type=»color» columns_gap=»15″ rc_bg_color=»#fff3e0″][vc_column width=»1/6″][/vc_column][vc_column width=»5/6″ grve_css=»{«desktop«:{«padding-bottom«:«8%«\,«class«:«grve-wpb-1641920772377«}}»]Descubre la ruta en imágenes:[vc_row_inner][vc_column_inner width=»1/2″ tablet_sm_width=»2-3″][/vc_column_inner][vc_column_inner width=»1/2″ tablet_sm_width=»1-3″][/vc_column_inner][/vc_row_inner][/vc_column][/vc_row][vc_row padding_top_multiplier=»» padding_bottom_multiplier=»»][vc_column grve_css=»{«desktop«:{«margin-top«:«-14%«\,«class«:«grve-wpb-1599199444770«}}»]\n	\n			\n		\n							\n					\n				\n			\n							\n					\n				\n			\n		\n	\n		\n\n			\n				\n					\n	\n				\n								\n			\n	\n				\n			\n		\n	\n\n[/vc_column][/vc_row]
URL:https://www.carpetaniamadrid.com/ruta/anos-70-cronicas-de-madrid/
LOCATION:Plaza de los Chisperos de Chamberí\, Plaza de los Chisperos de Chamberí\, Madrid\, Madrid\, 28010
CATEGORIES:Disponible para grupos,Diurnas,Históricas,Recorridos literarios,Temáticas
ATTACH;FMTTYPE=image/jpeg:https://www.carpetaniamadrid.com/wp-content/uploads/2025/09/Anos-70.-callao-70_1.jpg
ORGANIZER;CN="Juan%20Carlos%20Gonz%C3%A1lez":MAILTO:jzalez@carpetaniamadrid.com
END:VEVENT
END:VCALENDAR