BEGIN:VCALENDAR
VERSION:2.0
PRODID:-//Carpetania Madrid - ECPv5.12.3//NONSGML v1.0//EN
CALSCALE:GREGORIAN
METHOD:PUBLISH
X-WR-CALNAME:Carpetania Madrid
X-ORIGINAL-URL:https://www.carpetaniamadrid.com
X-WR-CALDESC:Events for Carpetania Madrid
REFRESH-INTERVAL;VALUE=DURATION:PT1H
X-Robots-Tag:noindex
X-PUBLISHED-TTL:PT1H
BEGIN:VTIMEZONE
TZID:Europe/Madrid
BEGIN:DAYLIGHT
TZOFFSETFROM:+0100
TZOFFSETTO:+0200
TZNAME:CEST
DTSTART:20260329T010000
END:DAYLIGHT
BEGIN:STANDARD
TZOFFSETFROM:+0200
TZOFFSETTO:+0100
TZNAME:CET
DTSTART:20261025T010000
END:STANDARD
END:VTIMEZONE
BEGIN:VEVENT
DTSTART;TZID=Europe/Madrid:20260125T110000
DTEND;TZID=Europe/Madrid:20260125T131500
DTSTAMP:20260424T180007
CREATED:20240530T082824Z
LAST-MODIFIED:20251211T113120Z
UID:6846-1769338800-1769346900@www.carpetaniamadrid.com
SUMMARY:Madrid años 60 - La década prodigiosa
DESCRIPTION:[vc_row padding_top_multiplier=»» padding_bottom_multiplier=»4x» mobile_columns_vertical_gap=»none»][vc_column content_width=»custom» horizontal_content_position=»center» custom_content_width=»770″][vc_row_inner mobile_columns_vertical_gap=»15″][vc_column_inner width=»1/4″][/vc_column_inner][vc_column_inner width=»3/4″]Un paseo por la España y el Madrid de la década de los sesenta: del blanco y negro a la llegada del color\, tiempo de cambios y del Baby boom.[vc_column_text]Recorrido: plaza de España\, La torre de Madrid\, el hotel Plaza\, la Avenida de José Antonio y sus gentes\, los cines de estreno\, los hoteles de categoría\, los salones de billares\, los Beatles en Madrid\, Manolo Santana\, las cafeterías y bares americanos\, los salones de baile y las boites\, la sexta copa de Europa del Real Madrid\, Conchita Velasco-la chica Yeyé\, Marisol\, Lola Flores\, Raphael\, los estudiantes del 68 \, el festival de Eurovisión\, de Madrid a la Luna… \n¡lo que se contaba y lo que se ocultaba de la vida madrileña![/vc_column_text][/vc_column_inner][/vc_row_inner][vc_row_inner mobile_columns_vertical_gap=»15″][vc_column_inner width=»1/4″]Qué incluye[/vc_column_inner][vc_column_inner width=»3/4″]Paseo con guía profesionalDocumentación + sorpresas musicalesSeguro de responsabilidad civil[/vc_column_inner][/vc_row_inner][vc_row_inner mobile_columns_vertical_gap=»15″][vc_column_inner width=»1/4″]Recorrido[/vc_column_inner][vc_column_inner width=»3/4″][vc_column_text] \n\n\n\nPlaza de España\nGran Vía\nPlaza de Callao\nCalle Preciados\nPlaza de Santo Domingo\nPlaza de Oriente\n\n\n\n[/vc_column_text][/vc_column_inner][/vc_row_inner][/vc_column][/vc_row][vc_row section_type=»fullwidth» padding_top_multiplier=»4x» padding_bottom_multiplier=»4x» rc_bg_type=»color» columns_gap=»15″ rc_bg_color=»#fff3e0″ section_id=»galeria»][vc_column width=»1/6″][/vc_column][vc_column width=»5/6″ grve_css=»{«desktop«:{«padding-bottom«:«8%«\,«class«:«grve-wpb-1641920772377«}}»]Descubre la ruta en imágenes:[vc_row_inner][vc_column_inner width=»1/2″ tablet_sm_width=»2-3″][/vc_column_inner][vc_column_inner width=»1/2″ tablet_sm_width=»1-3″][/vc_column_inner][/vc_row_inner][/vc_column][/vc_row][vc_row padding_top_multiplier=»» padding_bottom_multiplier=»»][vc_column grve_css=»{«desktop«:{«margin-top«:«-14%«\,«class«:«grve-wpb-1599199444770«}}»]\n	\n			\n		\n							\n					\n				\n			\n							\n					\n				\n			\n		\n	\n		\n\n			\n				\n					\n	\n				\n								\n				\n			\n											\n		\n	\n\n				\n			\n\n			\n				\n					\n	\n				\n								\n				\n			\n											\n		\n	\n\n				\n			\n\n			\n				\n					\n	\n				\n								\n				\n			\n											\n		\n	\n\n				\n			\n\n			\n				\n					\n	\n				\n								\n				\n			\n											\n		\n	\n\n				\n			\n\n			\n				\n					\n	\n				\n								\n				\n			\n											\n		\n	\n\n				\n			\n\n			\n				\n					\n	\n				\n								\n				\n			\n											\n		\n	\n\n				\n			\n\n			\n				\n					\n	\n				\n								\n				\n			\n											\n		\n	\n\n				\n			\n\n			\n				\n					\n	\n				\n								\n				\n			\n											\n		\n	\n\n				\n			\n		\n	\n\n[/vc_column][/vc_row]
URL:https://www.carpetaniamadrid.com/ruta/madrid-anos-60-decada-prodigiosa/
LOCATION:Plaza de España\, junto a la escultura de Quijote y Sancho\, Plaza de España\, Madrid
CATEGORIES:Disponible para grupos,Diurnas,Temáticas
ATTACH;FMTTYPE=image/jpeg:https://www.carpetaniamadrid.com/wp-content/uploads/2024/05/0008.1.-Chica-yeye.-IMG_3955-copia2.jpg
ORGANIZER;CN="Juan%20Carlos%20Gonz%C3%A1lez":MAILTO:jzalez@carpetaniamadrid.com
END:VEVENT
END:VCALENDAR