BEGIN:VCALENDAR
VERSION:2.0
PRODID:-//Carpetania Madrid - ECPv5.12.3//NONSGML v1.0//EN
CALSCALE:GREGORIAN
METHOD:PUBLISH
X-WR-CALNAME:Carpetania Madrid
X-ORIGINAL-URL:https://www.carpetaniamadrid.com
X-WR-CALDESC:Events for Carpetania Madrid
REFRESH-INTERVAL;VALUE=DURATION:PT1H
X-Robots-Tag:noindex
X-PUBLISHED-TTL:PT1H
BEGIN:VTIMEZONE
TZID:Europe/Madrid
BEGIN:DAYLIGHT
TZOFFSETFROM:+0100
TZOFFSETTO:+0200
TZNAME:CEST
DTSTART:20260329T010000
END:DAYLIGHT
BEGIN:STANDARD
TZOFFSETFROM:+0200
TZOFFSETTO:+0100
TZNAME:CET
DTSTART:20261025T010000
END:STANDARD
END:VTIMEZONE
BEGIN:VEVENT
DTSTART;TZID=Europe/Madrid:20260404T200000
DTEND;TZID=Europe/Madrid:20260404T221500
DTSTAMP:20260424T145245
CREATED:20220302T114758Z
LAST-MODIFIED:20260312T082410Z
UID:610-1775332800-1775340900@www.carpetaniamadrid.com
SUMMARY:Madrid de los espías
DESCRIPTION:[vc_row padding_top_multiplier=»» padding_bottom_multiplier=»4x» mobile_columns_vertical_gap=»none»][vc_column content_width=»custom» horizontal_content_position=»center» custom_content_width=»770″][vc_row_inner mobile_columns_vertical_gap=»15″][vc_column_inner width=»1/4″][/vc_column_inner][vc_column_inner width=»3/4″]¿Quieres espiar con nosotros?[vc_column_text]Un paseo diferente por la ciudad\, evocando y recordando historias y lugares de conspiraciones\, de intrigas\, y a aquellos espías que trabajaron al servicio de su Majestad y de otras fuerzas del poder. \nUn recorrido por los servicios de inteligencia\, el uso del espionaje por el poder político\, las redes de espionaje\, los agentes dobles\, el espionaje industrial del siglo XVIII\, las conspiradores del siglo XIX\, hermandades secretas\, francmasones\, malvados\, traidores \, sabotajes \, escritores\, bailarinas\, nazis\, etc. \n \nNOTA: Espía es aquella persona que\, con disimulo y secreto\, observa o escucha lo que pasa\, para comunicárselo al que se lo ha mandado.[/vc_column_text][/vc_column_inner][/vc_row_inner][vc_row_inner mobile_columns_vertical_gap=»15″][vc_column_inner width=»1/4″]Qué incluye[/vc_column_inner][vc_column_inner width=»3/4″]Paseo guiado con guía profesionalDocumentaciónSeguro de responsabilidad civil[/vc_column_inner][/vc_row_inner][vc_row_inner mobile_columns_vertical_gap=»15″][vc_column_inner width=»1/4″]Recorrido[/vc_column_inner][vc_column_inner width=»3/4″][vc_column_text] \n\n\n\nPlaza de la Lealtad\nPaseo del Prado\nPlaza de las Cortes\nCalle del Prado\nPlaza del Santa Ana\nPlaza del Ángel\n\n\n\n[/vc_column_text][/vc_column_inner][/vc_row_inner][/vc_column][/vc_row][vc_row section_type=»fullwidth» padding_top_multiplier=»4x» padding_bottom_multiplier=»4x» rc_bg_type=»color» columns_gap=»15″ rc_bg_color=»#fff3e0″ section_id=»galeria»][vc_column width=»1/6″][/vc_column][vc_column width=»5/6″ grve_css=»{«desktop«:{«padding-bottom«:«8%«\,«class«:«grve-wpb-1641920772377«}}»]Descubre la ruta en imágenes:[vc_row_inner][vc_column_inner width=»1/2″ tablet_sm_width=»2-3″][/vc_column_inner][vc_column_inner width=»1/2″ tablet_sm_width=»1-3″][/vc_column_inner][/vc_row_inner][/vc_column][/vc_row][vc_row padding_top_multiplier=»» padding_bottom_multiplier=»»][vc_column grve_css=»{«desktop«:{«margin-top«:«-14%«\,«class«:«grve-wpb-1599199444770«}}»]\n	\n			\n		\n							\n					\n				\n			\n							\n					\n				\n			\n		\n	\n		\n\n			\n				\n					\n	\n				\n								\n			\n	\n				\n			\n\n			\n				\n					\n	\n				\n								\n			\n	\n				\n			\n\n			\n				\n					\n	\n				\n								\n			\n	\n				\n			\n\n			\n				\n					\n	\n				\n								\n			\n	\n				\n			\n\n			\n				\n					\n	\n				\n								\n			\n	\n				\n			\n		\n	\n\n[/vc_column][/vc_row]
URL:https://www.carpetaniamadrid.com/ruta/madrid-de-los-espias/
LOCATION:Plaza de la Lealtad – Junto al Obelisco\, Plaza de la Lealtad\, Madrid\, Madrid\, 28014
CATEGORIES:Disponible para grupos,Nocturnas,Temáticas
ATTACH;FMTTYPE=image/jpeg:https://www.carpetaniamadrid.com/wp-content/uploads/2022/03/espia-mata-hari.jpg
ORGANIZER;CN="Juan%20Carlos%20Gonz%C3%A1lez":MAILTO:jzalez@carpetaniamadrid.com
END:VEVENT
END:VCALENDAR