BEGIN:VCALENDAR
VERSION:2.0
PRODID:-//Carpetania Madrid - ECPv5.12.3//NONSGML v1.0//EN
CALSCALE:GREGORIAN
METHOD:PUBLISH
X-WR-CALNAME:Carpetania Madrid
X-ORIGINAL-URL:https://www.carpetaniamadrid.com
X-WR-CALDESC:Events for Carpetania Madrid
REFRESH-INTERVAL;VALUE=DURATION:PT1H
X-Robots-Tag:noindex
X-PUBLISHED-TTL:PT1H
BEGIN:VTIMEZONE
TZID:Europe/Madrid
BEGIN:DAYLIGHT
TZOFFSETFROM:+0100
TZOFFSETTO:+0200
TZNAME:CEST
DTSTART:20260329T010000
END:DAYLIGHT
BEGIN:STANDARD
TZOFFSETFROM:+0200
TZOFFSETTO:+0100
TZNAME:CET
DTSTART:20261025T010000
END:STANDARD
END:VTIMEZONE
BEGIN:VEVENT
DTSTART;TZID=Europe/Madrid:20260410T200000
DTEND;TZID=Europe/Madrid:20260410T220000
DTSTAMP:20260424T145243
CREATED:20220310T091716Z
LAST-MODIFIED:20260325T142210Z
UID:879-1775851200-1775858400@www.carpetaniamadrid.com
SUMMARY:El Madrid Oscuro
DESCRIPTION:[vc_row padding_top_multiplier=»» padding_bottom_multiplier=»4x» mobile_columns_vertical_gap=»none»][vc_column content_width=»custom» horizontal_content_position=»center» custom_content_width=»770″][vc_row_inner mobile_columns_vertical_gap=»15″][vc_column_inner width=»1/4″][/vc_column_inner][vc_column_inner width=»3/4″]Asesinatos y crímenes en Madrid.\n(Basado en hechos reales).[vc_column_text]Los grandes crímenes menudean. Cuando cae la noche\, Madrid nos evoca el recuerdo de oscuros y truculentos acontecimientos vividos: muertes\, descuartizamientos\, asesinos psicópatas que conspiran en la sombra por las más enrevesadas razones. \nDescubre historias atrapadas en el tiempo: el crimen del Capitán Sánchez\, los crímenes de Jarabo\, los crímenes de la calle Fuencarral\, la casa de Antonio Grilo\, el crimen del rol… \nLuz\, más luz  a estas historias que podemos recrear a través de las páginas del libro de Alberto Granados Las rutas del misterio. El Madrid oscuro (Ed. Espasa). \n«Historias que a veces es mejor recordar para comprender que lo que hace verdaderamente importante a una ciudad es la unión de sus luces y sombras» (A. Granados) \n«Quizá alguna de estas historias haga que usted no vuelva a pasear de noche por ciertas calles de Madrid» (A. Granados) \nhttps://www.carpetaniamadrid.com/wp-content/uploads/2022/03/alberto_granados_MC.mp4\n  \nTelemadrid – Un macabro crimen de amor y celos en el Madrid de 1913 \nTráiler de El Madrid Oscuro.[/vc_column_text][/vc_column_inner][/vc_row_inner][vc_row_inner mobile_columns_vertical_gap=»15″][vc_column_inner width=»1/4″]Qué incluye[/vc_column_inner][vc_column_inner width=»3/4″]Tour guiado con guía profesionalDocumentaciónSeguro de responsabilidad civil[/vc_column_inner][/vc_row_inner][vc_row_inner mobile_columns_vertical_gap=»15″][vc_column_inner width=»1/4″]Recorrido[/vc_column_inner][vc_column_inner width=»3/4″][vc_column_text] \n\n\n\nCalle Alcalá\nBar Chicote\nCalle Fuencarral\nCalle del Desengaño\nCalle de Antonio Grilo\nCalle San Bernardo.\n\n\n\n[/vc_column_text][/vc_column_inner][/vc_row_inner][/vc_column][/vc_row][vc_row section_type=»fullwidth» padding_top_multiplier=»4x» padding_bottom_multiplier=»4x» rc_bg_type=»color» columns_gap=»15″ rc_bg_color=»#fff3e0″][vc_column width=»1/6″][/vc_column][vc_column width=»5/6″ grve_css=»{«desktop«:{«padding-bottom«:«8%«\,«class«:«grve-wpb-1641920772377«}}»]Descubre la ruta en imágenes:[vc_row_inner][vc_column_inner width=»1/2″ tablet_sm_width=»2-3″][/vc_column_inner][vc_column_inner width=»1/2″ tablet_sm_width=»1-3″][/vc_column_inner][/vc_row_inner][/vc_column][/vc_row][vc_row padding_top_multiplier=»» padding_bottom_multiplier=»»][vc_column grve_css=»{«desktop«:{«margin-top«:«-14%«\,«class«:«grve-wpb-1599199444770«}}»]\n	\n			\n		\n							\n					\n				\n			\n							\n					\n				\n			\n		\n	\n		\n\n			\n				\n					\n	\n				\n								\n			\n	\n				\n			\n		\n	\n\n[/vc_column][/vc_row]
URL:https://www.carpetaniamadrid.com/ruta/el-madrid-oscuro/
LOCATION:Calle Alcalá 16\, calle Alcalá\,16\, Madrid\, 28014\, España
CATEGORIES:Disponible para grupos,Nocturnas,Temáticas
ATTACH;FMTTYPE=image/jpeg:https://www.carpetaniamadrid.com/wp-content/uploads/2022/03/LasRutasdelMisterio_2.jpg
ORGANIZER;CN="Miriam%20Cano":MAILTO:miriam@carpetaniamadrid.com
END:VEVENT
END:VCALENDAR