BEGIN:VCALENDAR
VERSION:2.0
PRODID:-//Carpetania Madrid - ECPv5.12.3//NONSGML v1.0//EN
CALSCALE:GREGORIAN
METHOD:PUBLISH
X-WR-CALNAME:Carpetania Madrid
X-ORIGINAL-URL:https://www.carpetaniamadrid.com
X-WR-CALDESC:Events for Carpetania Madrid
REFRESH-INTERVAL;VALUE=DURATION:PT1H
X-Robots-Tag:noindex
X-PUBLISHED-TTL:PT1H
BEGIN:VTIMEZONE
TZID:Europe/Madrid
BEGIN:DAYLIGHT
TZOFFSETFROM:+0100
TZOFFSETTO:+0200
TZNAME:CEST
DTSTART:20260329T010000
END:DAYLIGHT
BEGIN:STANDARD
TZOFFSETFROM:+0200
TZOFFSETTO:+0100
TZNAME:CET
DTSTART:20261025T010000
END:STANDARD
END:VTIMEZONE
BEGIN:VEVENT
DTSTART;TZID=Europe/Madrid:20260418T200000
DTEND;TZID=Europe/Madrid:20260418T220000
DTSTAMP:20260424T145242
CREATED:20220310T090202Z
LAST-MODIFIED:20260325T142511Z
UID:875-1776542400-1776549600@www.carpetaniamadrid.com
SUMMARY:Misterios y secretos de Madrid
DESCRIPTION:[vc_row padding_top_multiplier=»» padding_bottom_multiplier=»4x» mobile_columns_vertical_gap=»none»][vc_column content_width=»custom» horizontal_content_position=»center» custom_content_width=»770″][vc_row_inner mobile_columns_vertical_gap=»15″][vc_column_inner width=»1/4″][/vc_column_inner][vc_column_inner width=»3/4″]Las historias olvidadas.[vc_column_text]Paseo nocturno por las historias insólitas y tenebrosas del Madrid de la Gran Vía y alrededores. \nLa ruta comienza en la Casa de las Siete Chimeneas\, una de las casas encantadas con más misterios de Madrid. Conoceremos la historia de un inglés que se enamoró de una mujer a quien nunca podrá amar\, la truculenta muerte de Almudena y localizaremos el cuerpo incorrupto de Mariana de Jesús. Fantasmas\, ángeles y demonios\, beatas\, amoríos\, incendios\, leyendas y curiosidades. \nUna ruta basada en el exitoso libro Secretos de Madrid\, de Manuel García del Moral. \n«Está claro que Madrid guarda demasiados secretos y alguno siempre se escapa…» (Manuel García del Moral) \n«De la historia a las historias\, de lo real a lo onírico\, del pasado al presente. Un recorrido amenos lleno de sorpresas\, un recuerdo; como cada una de las historias\, inolvidable» (J.López) \nPodcast Madrid de los fantasmas y otros sucesos misteriosos (Onda Cero\, a partir del minuto 20).[/vc_column_text][/vc_column_inner][/vc_row_inner][vc_row_inner mobile_columns_vertical_gap=»15″][vc_column_inner width=»1/4″]Qué incluye[/vc_column_inner][vc_column_inner width=»3/4″]Tour guiado con guía profesionalDocumentaciónSeguro de responsabilidad civil[/vc_column_inner][/vc_row_inner][vc_row_inner mobile_columns_vertical_gap=»15″][vc_column_inner width=»1/4″]Recorrido[/vc_column_inner][vc_column_inner width=»3/4″][vc_column_text] \n\n\n\nPlaza del Rey\nCasa de las Siete Chimeneas\nIglesia de San José\nCaballero de Gracia\nCalle de la Montera\nAlrededores de la Puerta del Sol.\n\n\n\n[/vc_column_text][/vc_column_inner][/vc_row_inner][/vc_column][/vc_row][vc_row section_type=»fullwidth» padding_top_multiplier=»4x» padding_bottom_multiplier=»4x» rc_bg_type=»color» columns_gap=»15″ rc_bg_color=»#fff3e0″ section_id=»galeria»][vc_column width=»1/6″][/vc_column][vc_column width=»5/6″ grve_css=»{«desktop«:{«padding-bottom«:«8%«\,«class«:«grve-wpb-1641920772377«}}»]Descubre la ruta en imágenes:[vc_row_inner][vc_column_inner width=»1/2″ tablet_sm_width=»2-3″][/vc_column_inner][vc_column_inner width=»1/2″ tablet_sm_width=»1-3″][/vc_column_inner][/vc_row_inner][/vc_column][/vc_row][vc_row padding_top_multiplier=»» padding_bottom_multiplier=»»][vc_column grve_css=»{«desktop«:{«margin-top«:«-14%«\,«class«:«grve-wpb-1599199444770«}}»]\n	\n			\n		\n							\n					\n				\n			\n							\n					\n				\n			\n		\n	\n		\n\n			\n				\n					\n	\n				\n								\n			\n	\n				\n			\n\n			\n				\n					\n	\n				\n								\n			\n	\n				\n			\n\n			\n				\n					\n	\n				\n								\n			\n	\n				\n			\n\n			\n				\n					\n	\n				\n								\n			\n	\n				\n			\n\n			\n				\n					\n	\n				\n								\n			\n	\n				\n			\n\n			\n				\n					\n	\n				\n								\n			\n	\n				\n			\n\n			\n				\n					\n	\n				\n								\n			\n	\n				\n			\n		\n	\n\n[/vc_column][/vc_row]
URL:https://www.carpetaniamadrid.com/ruta/misterios-y-secretos-de-madrid/
LOCATION:Plaza de Rey (estatua del teniente Ruíz)\, Pl. del Rey\, 4\, Madrid\, 28004\, España
CATEGORIES:Disponible para grupos,Nocturnas,Temáticas
ATTACH;FMTTYPE=image/jpeg:https://www.carpetaniamadrid.com/wp-content/uploads/2022/03/Secretos.jpg
ORGANIZER;CN="Miriam%20Cano":MAILTO:miriam@carpetaniamadrid.com
END:VEVENT
END:VCALENDAR