BEGIN:VCALENDAR
VERSION:2.0
PRODID:-//Carpetania Madrid - ECPv5.12.3//NONSGML v1.0//EN
CALSCALE:GREGORIAN
METHOD:PUBLISH
X-WR-CALNAME:Carpetania Madrid
X-ORIGINAL-URL:https://www.carpetaniamadrid.com
X-WR-CALDESC:Events for Carpetania Madrid
REFRESH-INTERVAL;VALUE=DURATION:PT1H
X-Robots-Tag:noindex
X-PUBLISHED-TTL:PT1H
BEGIN:VTIMEZONE
TZID:Europe/Madrid
BEGIN:DAYLIGHT
TZOFFSETFROM:+0100
TZOFFSETTO:+0200
TZNAME:CEST
DTSTART:20260329T010000
END:DAYLIGHT
BEGIN:STANDARD
TZOFFSETFROM:+0200
TZOFFSETTO:+0100
TZNAME:CET
DTSTART:20261025T010000
END:STANDARD
END:VTIMEZONE
BEGIN:VEVENT
DTSTART;TZID=Europe/Madrid:20260529T200000
DTEND;TZID=Europe/Madrid:20260529T224500
DTSTAMP:20260424T162937
CREATED:20220301T105154Z
LAST-MODIFIED:20260418T082332Z
UID:589-1780084800-1780094700@www.carpetaniamadrid.com
SUMMARY:Madrid: los años de la Movida
DESCRIPTION:[vc_row padding_top_multiplier=»» padding_bottom_multiplier=»4x» mobile_columns_vertical_gap=»none»][vc_column content_width=»custom» horizontal_content_position=»center» custom_content_width=»770″][vc_row_inner mobile_columns_vertical_gap=»15″][vc_column_inner width=»1/4″][/vc_column_inner][vc_column_inner width=»3/4″]El Rollo\, la Movida madrileña y otras hierbas.[vc_column_text]Madrid finales de los años 70\, los 80s: la llegada de la democracia\, el protagonismo de los jóvenes\, los movimientos culturales\, las nuevas tribus urbanas. El «Rollo»\, los cafés\, los locales de copas\, los grupos de música\, de las maquetas a los discos\, los «pinchas»\, las radios FM y las radios libres\, las revistas y fanzines\, los escritores\, los artistas\, los fotógrafos\, la televisión\, el cine «Underground»\, las chicas del Drugstore\, las chicas Almodóvar y las noches de las calles de Madrid como escenario de la cultura. \n«Arde la calle al sol de poniente hay tribus ocultas cerca del río esperando que caiga la noche…» (Radio Futura- Escuela de calor) \nVÍDEOS y PRENSA: \nRuta nocturna por el Madrid de los años 80 (TeleMadrid) \nLa Movida Madrileña regresa a Malasaña mediante rutas guiadas \nUn tour por la ‘Movida Madrileña’ con Juan Luis Cano y Juan Carlos González – Ya Veremos -M80 \nMadrid de Ceesepe\, los años de la transición (Onda Cero) \nEl Madrid de la movida madrileña y Tino Casal -12/02/2024[/vc_column_text][/vc_column_inner][/vc_row_inner][vc_row_inner mobile_columns_vertical_gap=»15″][vc_column_inner width=»1/4″]Qué incluye[/vc_column_inner][vc_column_inner width=»3/4″]Paseo a pie movido con guía profesionalUna consumición en El Penta Bar / Madrid Me MataDocumentaciónSeguro de responsabilidad civil[/vc_column_inner][/vc_row_inner][vc_row_inner mobile_columns_vertical_gap=»15″][vc_column_inner width=»1/4″]Recorrido[/vc_column_inner][vc_column_inner width=»3/4″][vc_column_text] \n\n\n\nCalle Manuela Malasaña\nCalle Ruiz\nPlaza Dos de Mayo\nCalle Velarde\nPlazuela de Antonio Vega\nCorredera de San Pablo\nCalle San Vicente Ferrer\nCalle Espíritu Santo\nCalle del Pez\n\n\n\n[/vc_column_text][/vc_column_inner][/vc_row_inner][/vc_column][/vc_row][vc_row section_type=»fullwidth» padding_top_multiplier=»4x» padding_bottom_multiplier=»4x» rc_bg_type=»color» columns_gap=»15″ rc_bg_color=»#fff3e0″ section_id=»galeria»][vc_column width=»1/6″][/vc_column][vc_column width=»5/6″ grve_css=»{«desktop«:{«padding-bottom«:«8%«\,«class«:«grve-wpb-1641920772377«}}»]Descubre la ruta en imágenes:[vc_row_inner][vc_column_inner width=»1/2″ tablet_sm_width=»2-3″][/vc_column_inner][vc_column_inner width=»1/2″ tablet_sm_width=»1-3″][/vc_column_inner][/vc_row_inner][/vc_column][/vc_row][vc_row padding_top_multiplier=»» padding_bottom_multiplier=»»][vc_column grve_css=»{«desktop«:{«margin-top«:«-14%«\,«class«:«grve-wpb-1599199444770«}}»]\n	\n			\n		\n							\n					\n				\n			\n							\n					\n				\n			\n		\n	\n		\n\n			\n				\n					\n	\n				\n								\n			\n	\n				\n			\n\n			\n				\n					\n	\n				\n								\n			\n	\n				\n			\n\n			\n				\n					\n	\n				\n								\n			\n	\n				\n			\n\n			\n				\n					\n	\n				\n								\n			\n	\n				\n			\n\n			\n				\n					\n	\n				\n								\n			\n	\n				\n			\n		\n	\n\n[/vc_column][/vc_row]
URL:https://www.carpetaniamadrid.com/ruta/madrid-movida/
LOCATION:C/ Manuela Malasaña\, 24 – esquina Monteléon (Popland)\, C/ Manuela Malasaña\, 24\, Madrid\, España
CATEGORIES:Disponible para grupos,Nocturnas,Temáticas
ATTACH;FMTTYPE=image/jpeg:https://www.carpetaniamadrid.com/wp-content/uploads/2022/03/CabeceraMadridmemata2.jpg
ORGANIZER;CN="Juan%20Carlos%20Gonz%C3%A1lez":MAILTO:jzalez@carpetaniamadrid.com
END:VEVENT
END:VCALENDAR